Workbook

Sheet Rentabilité projet
B1: Calcul gains énergétiques et retour sur investissement isolation de points singuliers
B3: Renseignements généraux : | G3: Informations gains projet :
C5: Fonctionnement du site : | D5: 3x8 avec arrêt WE | K5: Pertes énergétiques totales : | L5: =SUM(L18:L42) -> 28235.177 | M5: (kWhPCS/an)
K6: Economie potentielle : | L6: =SUM(M18:M42) -> 1372.2296 | M6: (€/an)
C7: Rendement production eau chaude : | D7: 0.85 | E7: (%) | K7: Coût mise en place matelas : | M7: (€)
K8: Coût matériel : | L8: =SUM(D18:D42) -> 4683.6 | M8: (€)
C9: Coût combustible : | D9: 0.0486 | E9: (€/kWh) | K9: Coût total : | L9: =L7+L8 -> 4683.6
K10: CEE : | M10: (€)
C11: Prix indicatif des CEE : | E11: (€/MWh cumac)
K12: Retour sur investissement : | L12: =IF(L9<L10,"Immédiat",(L9-L10)/L6) -> 3.4131315 | M12: =IF(L12="Immédiat","","années") -> années
B14: Paramétrage points singuliers à calorifuger :
B16: Localisation | C16: Type équipement | D16: Coût matelas isolant | E16: DN | F16: Température réseau | G16: Température externe | H16: Débit chaleur avant isolation | I16: Débit chaleur après isolation | J16: Pertes | K16: Déperdition réseau | L16: Pertes énergie primaire | M16: Gain potentiel
D17: (€) | F17: (°C) | G17: (°C) | H17: (W) | I17: (W) | J17: (W) | K17: (kWh/an) | L17: (kWhPCS/an) | M17: (€/an)
B18: eau chaude | C18: MATELAS eau chaude EP 060 | D18: 199.01 | E18: 100 | F18: 65 | G18: 20 | H18: =IF(OR(E18="",F18="",G18=""),"",((F18-G18)*2*PI()*(VLOOKUP(E18,'Paramètres'!$C$3:$G$14,5)))/((1/'Paramètres'!$Q$3)*LN(VLOOKUP(E18,'Paramètres'!$C$3:$G$14,3)/VLOOKUP(E18,'Paramètres'!$C$3:$G$14,2))+1/('Paramètres'!$R$6*VLOOKUP(E18,'Paramètres'!$C$3:$G$14,3)/2))) -> 249.4874 | I18: =IF(OR(E18="",F18="",G18=""),"",((F18-G18)*2*PI()*(VLOOKUP(E18,'Paramètres'!$C$3:$G$14,5)))/((1/'Paramètres'!$Q$3)*LN(VLOOKUP(E18,'Paramètres'!$C$3:$G$14,3)/VLOOKUP(E18,'Paramètres'!$C$3:$G$14,2))+((1/'Paramètres'!$Q$4)*LN((VLOOKUP(E18,'Paramètres'!$C$3:$G$14,3)+'Paramètres'!$R$4)/VLOOKUP(E18,'Paramètres'!$C$3:$G$14,3)))+1/('Paramètres'!$R$6*(VLOOKUP(E18,'Paramètres'!$C$3:$G$14,3)+'Paramètres'!$R$4)/2))) -> 49.689697 | J18: =IF(AND(H18="",I18=""),"",(H18-I18)) -> 199.7977 | K18: =IF(J18="","",J18/1000*VLOOKUP($D$5,'Paramètres'!$L$3:$N$6,2)) -> 1246.7376 | L18: =IF(J18="","",K18/$D$7) -> 1466.7502 | M18: =IF(J18="","",L18*$D$9) -> 71.284059
B19: eau chaude | C19: MATELAS eau chaude EP 060 | D19: 152.72 | E19: 100 | F19: 65 | G19: 20 | H19: =IF(OR(E19="",F19="",G19=""),"",((F19-G19)*2*PI()*(VLOOKUP(E19,'Paramètres'!$C$3:$G$14,5)))/((1/'Paramètres'!$Q$3)*LN(VLOOKUP(E19,'Paramètres'!$C$3:$G$14,3)/VLOOKUP(E19,'Paramètres'!$C$3:$G$14,2))+1/('Paramètres'!$R$6*VLOOKUP(E19,'Paramètres'!$C$3:$G$14,3)/2))) -> 249.4874 | I19: =IF(OR(E19="",F19="",G19=""),"",((F19-G19)*2*PI()*(VLOOKUP(E19,'Paramètres'!$C$3:$G$14,5)))/((1/'Paramètres'!$Q$3)*LN(VLOOKUP(E19,'Paramètres'!$C$3:$G$14,3)/VLOOKUP(E19,'Paramètres'!$C$3:$G$14,2))+((1/'Paramètres'!$Q$4)*LN((VLOOKUP(E19,'Paramètres'!$C$3:$G$14,3)+'Paramètres'!$R$4)/VLOOKUP(E19,'Paramètres'!$C$3:$G$14,3)))+1/('Paramètres'!$R$6*(VLOOKUP(E19,'Paramètres'!$C$3:$G$14,3)+'Paramètres'!$R$4)/2))) -> 49.689697 | J19: =IF(AND(H19="",I19=""),"",(H19-I19)) -> 199.7977 | K19: =IF(J19="","",J19/1000*VLOOKUP($D$5,'Paramètres'!$L$3:$N$6,2)) -> 1246.7376 | L19: =IF(J19="","",K19/$D$7) -> 1466.7502 | M19: =IF(J19="","",L19*$D$9) -> 71.284059
B20: eau chaude | C20: MATELAS eau chaude EP 060 | D20: 181.72 | E20: 100 | F20: 65 | G20: 20 | H20: =IF(OR(E20="",F20="",G20=""),"",((F20-G20)*2*PI()*(VLOOKUP(E20,'Paramètres'!$C$3:$G$14,5)))/((1/'Paramètres'!$Q$3)*LN(VLOOKUP(E20,'Paramètres'!$C$3:$G$14,3)/VLOOKUP(E20,'Paramètres'!$C$3:$G$14,2))+1/('Paramètres'!$R$6*VLOOKUP(E20,'Paramètres'!$C$3:$G$14,3)/2))) -> 249.4874 | I20: =IF(OR(E20="",F20="",G20=""),"",((F20-G20)*2*PI()*(VLOOKUP(E20,'Paramètres'!$C$3:$G$14,5)))/((1/'Paramètres'!$Q$3)*LN(VLOOKUP(E20,'Paramètres'!$C$3:$G$14,3)/VLOOKUP(E20,'Paramètres'!$C$3:$G$14,2))+((1/'Paramètres'!$Q$4)*LN((VLOOKUP(E20,'Paramètres'!$C$3:$G$14,3)+'Paramètres'!$R$4)/VLOOKUP(E20,'Paramètres'!$C$3:$G$14,3)))+1/('Paramètres'!$R$6*(VLOOKUP(E20,'Paramètres'!$C$3:$G$14,3)+'Paramètres'!$R$4)/2))) -> 49.689697 | J20: =IF(AND(H20="",I20=""),"",(H20-I20)) -> 199.7977 | K20: =IF(J20="","",J20/1000*VLOOKUP($D$5,'Paramètres'!$L$3:$N$6,2)) -> 1246.7376 | L20: =IF(J20="","",K20/$D$7) -> 1466.7502 | M20: =IF(J20="","",L20*$D$9) -> 71.284059
B21: eau chaude | C21: MATELAS eau chaude EP 060 | D21: 181.72 | E21: 100 | F21: 65 | G21: 20 | H21: =IF(OR(E21="",F21="",G21=""),"",((F21-G21)*2*PI()*(VLOOKUP(E21,'Paramètres'!$C$3:$G$14,5)))/((1/'Paramètres'!$Q$3)*LN(VLOOKUP(E21,'Paramètres'!$C$3:$G$14,3)/VLOOKUP(E21,'Paramètres'!$C$3:$G$14,2))+1/('Paramètres'!$R$6*VLOOKUP(E21,'Paramètres'!$C$3:$G$14,3)/2))) -> 249.4874 | I21: =IF(OR(E21="",F21="",G21=""),"",((F21-G21)*2*PI()*(VLOOKUP(E21,'Paramètres'!$C$3:$G$14,5)))/((1/'Paramètres'!$Q$3)*LN(VLOOKUP(E21,'Paramètres'!$C$3:$G$14,3)/VLOOKUP(E21,'Paramètres'!$C$3:$G$14,2))+((1/'Paramètres'!$Q$4)*LN((VLOOKUP(E21,'Paramètres'!$C$3:$G$14,3)+'Paramètres'!$R$4)/VLOOKUP(E21,'Paramètres'!$C$3:$G$14,3)))+1/('Paramètres'!$R$6*(VLOOKUP(E21,'Paramètres'!$C$3:$G$14,3)+'Paramètres'!$R$4)/2))) -> 49.689697 | J21: =IF(AND(H21="",I21=""),"",(H21-I21)) -> 199.7977 | K21: =IF(J21="","",J21/1000*VLOOKUP($D$5,'Paramètres'!$L$3:$N$6,2)) -> 1246.7376 | L21: =IF(J21="","",K21/$D$7) -> 1466.7502 | M21: =IF(J21="","",L21*$D$9) -> 71.284059
B22: eau chaude | C22: MATELAS eau chaude EP 060 | D22: 181.72 | E22: 100 | F22: 65 | G22: 20 | H22: =IF(OR(E22="",F22="",G22=""),"",((F22-G22)*2*PI()*(VLOOKUP(E22,'Paramètres'!$C$3:$G$14,5)))/((1/'Paramètres'!$Q$3)*LN(VLOOKUP(E22,'Paramètres'!$C$3:$G$14,3)/VLOOKUP(E22,'Paramètres'!$C$3:$G$14,2))+1/('Paramètres'!$R$6*VLOOKUP(E22,'Paramètres'!$C$3:$G$14,3)/2))) -> 249.4874 | I22: =IF(OR(E22="",F22="",G22=""),"",((F22-G22)*2*PI()*(VLOOKUP(E22,'Paramètres'!$C$3:$G$14,5)))/((1/'Paramètres'!$Q$3)*LN(VLOOKUP(E22,'Paramètres'!$C$3:$G$14,3)/VLOOKUP(E22,'Paramètres'!$C$3:$G$14,2))+((1/'Paramètres'!$Q$4)*LN((VLOOKUP(E22,'Paramètres'!$C$3:$G$14,3)+'Paramètres'!$R$4)/VLOOKUP(E22,'Paramètres'!$C$3:$G$14,3)))+1/('Paramètres'!$R$6*(VLOOKUP(E22,'Paramètres'!$C$3:$G$14,3)+'Paramètres'!$R$4)/2))) -> 49.689697 | J22: =IF(AND(H22="",I22=""),"",(H22-I22)) -> 199.7977 | K22: =IF(J22="","",J22/1000*VLOOKUP($D$5,'Paramètres'!$L$3:$N$6,2)) -> 1246.7376 | L22: =IF(J22="","",K22/$D$7) -> 1466.7502 | M22: =IF(J22="","",L22*$D$9) -> 71.284059
B23: eau chaude | C23: MATELAS eau chaude EP 060 | D23: 181.72 | E23: 100 | F23: 65 | G23: 20 | H23: =IF(OR(E23="",F23="",G23=""),"",((F23-G23)*2*PI()*(VLOOKUP(E23,'Paramètres'!$C$3:$G$14,5)))/((1/'Paramètres'!$Q$3)*LN(VLOOKUP(E23,'Paramètres'!$C$3:$G$14,3)/VLOOKUP(E23,'Paramètres'!$C$3:$G$14,2))+1/('Paramètres'!$R$6*VLOOKUP(E23,'Paramètres'!$C$3:$G$14,3)/2))) -> 249.4874 | I23: =IF(OR(E23="",F23="",G23=""),"",((F23-G23)*2*PI()*(VLOOKUP(E23,'Paramètres'!$C$3:$G$14,5)))/((1/'Paramètres'!$Q$3)*LN(VLOOKUP(E23,'Paramètres'!$C$3:$G$14,3)/VLOOKUP(E23,'Paramètres'!$C$3:$G$14,2))+((1/'Paramètres'!$Q$4)*LN((VLOOKUP(E23,'Paramètres'!$C$3:$G$14,3)+'Paramètres'!$R$4)/VLOOKUP(E23,'Paramètres'!$C$3:$G$14,3)))+1/('Paramètres'!$R$6*(VLOOKUP(E23,'Paramètres'!$C$3:$G$14,3)+'Paramètres'!$R$4)/2))) -> 49.689697 | J23: =IF(AND(H23="",I23=""),"",(H23-I23)) -> 199.7977 | K23: =IF(J23="","",J23/1000*VLOOKUP($D$5,'Paramètres'!$L$3:$N$6,2)) -> 1246.7376 | L23: =IF(J23="","",K23/$D$7) -> 1466.7502 | M23: =IF(J23="","",L23*$D$9) -> 71.284059
B24: eau chaude | C24: MATELAS eau chaude EP 060 | D24: 181.72 | E24: 100 | F24: 65 | G24: 20 | H24: =IF(OR(E24="",F24="",G24=""),"",((F24-G24)*2*PI()*(VLOOKUP(E24,'Paramètres'!$C$3:$G$14,5)))/((1/'Paramètres'!$Q$3)*LN(VLOOKUP(E24,'Paramètres'!$C$3:$G$14,3)/VLOOKUP(E24,'Paramètres'!$C$3:$G$14,2))+1/('Paramètres'!$R$6*VLOOKUP(E24,'Paramètres'!$C$3:$G$14,3)/2))) -> 249.4874 | I24: =IF(OR(E24="",F24="",G24=""),"",((F24-G24)*2*PI()*(VLOOKUP(E24,'Paramètres'!$C$3:$G$14,5)))/((1/'Paramètres'!$Q$3)*LN(VLOOKUP(E24,'Paramètres'!$C$3:$G$14,3)/VLOOKUP(E24,'Paramètres'!$C$3:$G$14,2))+((1/'Paramètres'!$Q$4)*LN((VLOOKUP(E24,'Paramètres'!$C$3:$G$14,3)+'Paramètres'!$R$4)/VLOOKUP(E24,'Paramètres'!$C$3:$G$14,3)))+1/('Paramètres'!$R$6*(VLOOKUP(E24,'Paramètres'!$C$3:$G$14,3)+'Paramètres'!$R$4)/2))) -> 49.689697 | J24: =IF(AND(H24="",I24=""),"",(H24-I24)) -> 199.7977 | K24: =IF(J24="","",J24/1000*VLOOKUP($D$5,'Paramètres'!$L$3:$N$6,2)) -> 1246.7376 | L24: =IF(J24="","",K24/$D$7) -> 1466.7502 | M24: =IF(J24="","",L24*$D$9) -> 71.284059
B25: eau chaude | C25: MATELAS eau chaude EP 060 | D25: 181.72 | E25: 100 | F25: 65 | G25: 20 | H25: =IF(OR(E25="",F25="",G25=""),"",((F25-G25)*2*PI()*(VLOOKUP(E25,'Paramètres'!$C$3:$G$14,5)))/((1/'Paramètres'!$Q$3)*LN(VLOOKUP(E25,'Paramètres'!$C$3:$G$14,3)/VLOOKUP(E25,'Paramètres'!$C$3:$G$14,2))+1/('Paramètres'!$R$6*VLOOKUP(E25,'Paramètres'!$C$3:$G$14,3)/2))) -> 249.4874 | I25: =IF(OR(E25="",F25="",G25=""),"",((F25-G25)*2*PI()*(VLOOKUP(E25,'Paramètres'!$C$3:$G$14,5)))/((1/'Paramètres'!$Q$3)*LN(VLOOKUP(E25,'Paramètres'!$C$3:$G$14,3)/VLOOKUP(E25,'Paramètres'!$C$3:$G$14,2))+((1/'Paramètres'!$Q$4)*LN((VLOOKUP(E25,'Paramètres'!$C$3:$G$14,3)+'Paramètres'!$R$4)/VLOOKUP(E25,'Paramètres'!$C$3:$G$14,3)))+1/('Paramètres'!$R$6*(VLOOKUP(E25,'Paramètres'!$C$3:$G$14,3)+'Paramètres'!$R$4)/2))) -> 49.689697 | J25: =IF(AND(H25="",I25=""),"",(H25-I25)) -> 199.7977 | K25: =IF(J25="","",J25/1000*VLOOKUP($D$5,'Paramètres'!$L$3:$N$6,2)) -> 1246.7376 | L25: =IF(J25="","",K25/$D$7) -> 1466.7502 | M25: =IF(J25="","",L25*$D$9) -> 71.284059
B26: ? | C26: Matelas N°1 | D26: 143.29 | E26: 50 | F26: 65 | G26: 20 | H26: =IF(OR(E26="",F26="",G26=""),"",((F26-G26)*2*PI()*(VLOOKUP(E26,'Paramètres'!$C$3:$G$14,5)))/((1/'Paramètres'!$Q$3)*LN(VLOOKUP(E26,'Paramètres'!$C$3:$G$14,3)/VLOOKUP(E26,'Paramètres'!$C$3:$G$14,2))+1/('Paramètres'!$R$6*VLOOKUP(E26,'Paramètres'!$C$3:$G$14,3)/2))) -> 116.08053 | I26: =IF(OR(E26="",F26="",G26=""),"",((F26-G26)*2*PI()*(VLOOKUP(E26,'Paramètres'!$C$3:$G$14,5)))/((1/'Paramètres'!$Q$3)*LN(VLOOKUP(E26,'Paramètres'!$C$3:$G$14,3)/VLOOKUP(E26,'Paramètres'!$C$3:$G$14,2))+((1/'Paramètres'!$Q$4)*LN((VLOOKUP(E26,'Paramètres'!$C$3:$G$14,3)+'Paramètres'!$R$4)/VLOOKUP(E26,'Paramètres'!$C$3:$G$14,3)))+1/('Paramètres'!$R$6*(VLOOKUP(E26,'Paramètres'!$C$3:$G$14,3)+'Paramètres'!$R$4)/2))) -> 26.218414 | J26: =IF(AND(H26="",I26=""),"",(H26-I26)) -> 89.862114 | K26: =IF(J26="","",J26/1000*VLOOKUP($D$5,'Paramètres'!$L$3:$N$6,2)) -> 560.73959 | L26: =IF(J26="","",K26/$D$7) -> 659.69364 | M26: =IF(J26="","",L26*$D$9) -> 32.061111
B27: ? | C27: Matelas N°2 | D27: 176.56 | E27: 40 | F27: 65 | G27: 20 | H27: =IF(OR(E27="",F27="",G27=""),"",((F27-G27)*2*PI()*(VLOOKUP(E27,'Paramètres'!$C$3:$G$14,5)))/((1/'Paramètres'!$Q$3)*LN(VLOOKUP(E27,'Paramètres'!$C$3:$G$14,3)/VLOOKUP(E27,'Paramètres'!$C$3:$G$14,2))+1/('Paramètres'!$R$6*VLOOKUP(E27,'Paramètres'!$C$3:$G$14,3)/2))) -> 94.808523 | I27: =IF(OR(E27="",F27="",G27=""),"",((F27-G27)*2*PI()*(VLOOKUP(E27,'Paramètres'!$C$3:$G$14,5)))/((1/'Paramètres'!$Q$3)*LN(VLOOKUP(E27,'Paramètres'!$C$3:$G$14,3)/VLOOKUP(E27,'Paramètres'!$C$3:$G$14,2))+((1/'Paramètres'!$Q$4)*LN((VLOOKUP(E27,'Paramètres'!$C$3:$G$14,3)+'Paramètres'!$R$4)/VLOOKUP(E27,'Paramètres'!$C$3:$G$14,3)))+1/('Paramètres'!$R$6*(VLOOKUP(E27,'Paramètres'!$C$3:$G$14,3)+'Paramètres'!$R$4)/2))) -> 22.558015 | J27: =IF(AND(H27="",I27=""),"",(H27-I27)) -> 72.250508 | K27: =IF(J27="","",J27/1000*VLOOKUP($D$5,'Paramètres'!$L$3:$N$6,2)) -> 450.84317 | L27: =IF(J27="","",K27/$D$7) -> 530.40373 | M27: =IF(J27="","",L27*$D$9) -> 25.777621
B28: ? | C28: Matelas N°3 | D28: 176.6 | E28: 40 | F28: 65 | G28: 20 | H28: =IF(OR(E28="",F28="",G28=""),"",((F28-G28)*2*PI()*(VLOOKUP(E28,'Paramètres'!$C$3:$G$14,5)))/((1/'Paramètres'!$Q$3)*LN(VLOOKUP(E28,'Paramètres'!$C$3:$G$14,3)/VLOOKUP(E28,'Paramètres'!$C$3:$G$14,2))+1/('Paramètres'!$R$6*VLOOKUP(E28,'Paramètres'!$C$3:$G$14,3)/2))) -> 94.808523 | I28: =IF(OR(E28="",F28="",G28=""),"",((F28-G28)*2*PI()*(VLOOKUP(E28,'Paramètres'!$C$3:$G$14,5)))/((1/'Paramètres'!$Q$3)*LN(VLOOKUP(E28,'Paramètres'!$C$3:$G$14,3)/VLOOKUP(E28,'Paramètres'!$C$3:$G$14,2))+((1/'Paramètres'!$Q$4)*LN((VLOOKUP(E28,'Paramètres'!$C$3:$G$14,3)+'Paramètres'!$R$4)/VLOOKUP(E28,'Paramètres'!$C$3:$G$14,3)))+1/('Paramètres'!$R$6*(VLOOKUP(E28,'Paramètres'!$C$3:$G$14,3)+'Paramètres'!$R$4)/2))) -> 22.558015 | J28: =IF(AND(H28="",I28=""),"",(H28-I28)) -> 72.250508 | K28: =IF(J28="","",J28/1000*VLOOKUP($D$5,'Paramètres'!$L$3:$N$6,2)) -> 450.84317 | L28: =IF(J28="","",K28/$D$7) -> 530.40373 | M28: =IF(J28="","",L28*$D$9) -> 25.777621
B29: ? | C29: Matelas N°4 | D29: 194.85 | E29: 40 | F29: 65 | G29: 20 | H29: =IF(OR(E29="",F29="",G29=""),"",((F29-G29)*2*PI()*(VLOOKUP(E29,'Paramètres'!$C$3:$G$14,5)))/((1/'Paramètres'!$Q$3)*LN(VLOOKUP(E29,'Paramètres'!$C$3:$G$14,3)/VLOOKUP(E29,'Paramètres'!$C$3:$G$14,2))+1/('Paramètres'!$R$6*VLOOKUP(E29,'Paramètres'!$C$3:$G$14,3)/2))) -> 94.808523 | I29: =IF(OR(E29="",F29="",G29=""),"",((F29-G29)*2*PI()*(VLOOKUP(E29,'Paramètres'!$C$3:$G$14,5)))/((1/'Paramètres'!$Q$3)*LN(VLOOKUP(E29,'Paramètres'!$C$3:$G$14,3)/VLOOKUP(E29,'Paramètres'!$C$3:$G$14,2))+((1/'Paramètres'!$Q$4)*LN((VLOOKUP(E29,'Paramètres'!$C$3:$G$14,3)+'Paramètres'!$R$4)/VLOOKUP(E29,'Paramètres'!$C$3:$G$14,3)))+1/('Paramètres'!$R$6*(VLOOKUP(E29,'Paramètres'!$C$3:$G$14,3)+'Paramètres'!$R$4)/2))) -> 22.558015 | J29: =IF(AND(H29="",I29=""),"",(H29-I29)) -> 72.250508 | K29: =IF(J29="","",J29/1000*VLOOKUP($D$5,'Paramètres'!$L$3:$N$6,2)) -> 450.84317 | L29: =IF(J29="","",K29/$D$7) -> 530.40373 | M29: =IF(J29="","",L29*$D$9) -> 25.777621
... B42: ? | C42: Matelas N°17 | D42: 182.3 | E42: 80 | F42: 65 | G42: 20 | H42: =IF(OR(E42="",F42="",G42=""),"",((F42-G42)*2*PI()*(VLOOKUP(E42,'Paramètres'!$C$3:$G$14,5)))/((1/'Paramètres'!$Q$3)*LN(VLOOKUP(E42,'Paramètres'!$C$3:$G$14,3)/VLOOKUP(E42,'Paramètres'!$C$3:$G$14,2))+1/('Paramètres'!$R$6*VLOOKUP(E42,'Paramètres'!$C$3:$G$14,3)/2))) -> 190.64966 | I42: =IF(OR(E42="",F42="",G42=""),"",((F42-G42)*2*PI()*(VLOOKUP(E42,'Paramètres'!$C$3:$G$14,5)))/((1/'Paramètres'!$Q$3)*LN(VLOOKUP(E42,'Paramètres'!$C$3:$G$14,3)/VLOOKUP(E42,'Paramètres'!$C$3:$G$14,2))+((1/'Paramètres'!$Q$4)*LN((VLOOKUP(E42,'Paramètres'!$C$3:$G$14,3)+'Paramètres'!$R$4)/VLOOKUP(E42,'Paramètres'!$C$3:$G$14,3)))+1/('Paramètres'!$R$6*(VLOOKUP(E42,'Paramètres'!$C$3:$G$14,3)+'Paramètres'!$R$4)/2))) -> 39.5116 | J42: =IF(AND(H42="",I42=""),"",(H42-I42)) -> 151.13806 | K42: =IF(J42="","",J42/1000*VLOOKUP($D$5,'Paramètres'!$L$3:$N$6,2)) -> 943.10147 | L42: =IF(J42="","",K42/$D$7) -> 1109.5311 | M42: =IF(J42="","",L42*$D$9) -> 53.923214

Sheet Paramètres
B1: Tableau 1 : Diamètres, épaisseur et longueur équivalentes tuyauterie | I1: Tableau 2 : Equivalence P / T | L1: Tableau 3 : Mode de fonctionnement et calcul CEE | P1: Tableau 4 : Conductivité thermique matériaux
B2: Equipement | C2: DN | D2: diamètre intérieur (m) | E2: diamètre extérieur (m) | F2: Epaisseur (m) | G2: Longueur équivalente (m) | I2: Pression (bar) | J2: Température (°C) | L2: Mode de fonctionnement du réseau vapeur | M2: Durée de fonctionnement (h/an) | N2: Coefficient MWh cumac / point calorifugé | P2: Matériau | Q2: Lambda (W/(m.K)) | R2: Epaisseur (m)
B3: Vanne/filtre | C3: 20 | D3: 0.02 | E3: 0.027 | F3: =E3-D3 -> 0.007 | G3: 1.25 | I3: 5 | J3: 158.9 | L3: 1x8 | M3: =8*5*52 -> 2080 | N3: 2.7 | P3: Acier | Q3: 50 | R3: Cf. tableau 1
C4: 25 | D4: 0.026 | E4: 0.034 | F4: =E4-D4 -> 0.008 | G4: 1.37 | I4: 6 | J4: 165 | L4: 2x8 | M4: =2*8*5*52 -> 4160 | N4: 6 | P4: Laine verre | Q4: 0.04 | R4: 0.04
C5: 32 | D5: 0.033 | E5: 0.042 | F5: =E5-D5 -> 0.009 | G5: 1.37 | I5: 7 | J5: 170.5 | L5: 3x8 avec arrêt WE | M5: =3*8*5*52 -> 6240 | N5: 8.2
C6: 40 | D6: 0.04 | E6: 0.049 | F6: =E6-D6 -> 0.009 | G6: 1.37 | I6: 8 | J6: 175.4 | L6: 3x8 sans arrêt WE | M6: =8760 -> 8760 | N6: 11.5 | Q6: Coeff d'échange superficiel : | R6: 10 | S6: W/(m².K)
C7: 50 | D7: 0.05 | E7: 0.06 | F7: =E7-D7 -> 0.01 | G7: 1.37 | I7: 9 | J7: 179.9
C8: 65 | D8: 0.066 | E8: 0.076 | F8: =E8-D8 -> 0.01 | G8: 1.5 | I8: 10 | J8: 184.1
C9: 80 | D9: 0.08 | E9: 0.09 | F9: =E9-D9 -> 0.01 | G9: 1.5 | I9: 11 | J9: 188
C10: 100 | D10: 0.102 | E10: 0.114 | F10: =E10-D10 -> 0.012 | G10: 1.55 | I10: 12 | J10: 191.7
C11: 125 | D11: 0.125 | E11: 0.139 | F11: =E11-D11 -> 0.014 | G11: 1.66
C12: 150 | D12: 0.15 | E12: 0.168 | F12: =E12-D12 -> 0.018 | G12: 1.76
C13: 200 | D13: 0.2 | E13: 0.219 | F13: =E13-D13 -> 0.019 | G13: 2.14
C14: 250 | D14: 0.25 | E14: 0.272 | F14: =E14-D14 -> 0.022 | G14: 2.42
